BEGIN:VCALENDAR
VERSION:2.0
PRODID:-//the dadadadys official website - ECPv6.13.0//NONSGML v1.0//EN
CALSCALE:GREGORIAN
METHOD:PUBLISH
X-WR-CALNAME:the dadadadys official website
X-ORIGINAL-URL:https://dadadadys.com
X-WR-CALDESC:the dadadadys official website のイベント
REFRESH-INTERVAL;VALUE=DURATION:PT1H
X-Robots-Tag:noindex
X-PUBLISHED-TTL:PT1H
BEGIN:VTIMEZONE
TZID:Asia/Tokyo
BEGIN:STANDARD
TZOFFSETFROM:+0900
TZOFFSETTO:+0900
TZNAME:JST
DTSTART:20260101T000000
END:STANDARD
END:VTIMEZONE
BEGIN:VEVENT
DTSTART;VALUE=DATE:20260425
DTEND;VALUE=DATE:20260426
DTSTAMP:20260423T213340
CREATED:20260218T110024Z
LAST-MODIFIED:20260218T054402Z
UID:6141-1777075200-1777161599@dadadadys.com
SUMMARY:三四少⼥我等友情永久不滅ツアー
DESCRIPTION:【日程】2026年4月25日(土) \n【会場】名古屋CLUB ROCK’N’ROLL  \n【出演】三四少⼥ \, the dadadadys \n【開場 / 開演】16:30 / 17:00 \n【チケット】前売￥3\,400- (D代別) \n【オフィシャル⼀次先⾏】 ※e+受付期間：2月23日(月祝) 23:59までhttps://eplus.jp/sunsoogirl/
URL:https://dadadadys.com/live/%e4%b8%89%e5%9b%9b%e5%b0%91%e2%bc%a5%e6%88%91%e7%ad%89%e5%8f%8b%e6%83%85%e6%b0%b8%e4%b9%85%e4%b8%8d%e6%bb%85%e3%83%84%e3%82%a2%e3%83%bc/
LOCATION:名古屋CLUB ROCK’N’ROLL\, 名古屋市\, 中区新栄1-8-12 第5七福ビル1F\, 愛知県\, 460-0007\, Japan
CATEGORIES:event
ATTACH;FMTTYPE=image/jpeg:https://dadadadys.com/wp-content/uploads/0425.jpg
END:VEVENT
BEGIN:VEVENT
DTSTART;VALUE=DATE:20260505
DTEND;VALUE=DATE:20260506
DTSTAMP:20260423T213340
CREATED:20260331T110036Z
LAST-MODIFIED:20260330T052645Z
UID:6271-1777939200-1778025599@dadadadys.com
SUMMARY:月見ル君想フpre.“おとなこどもの日”
DESCRIPTION:【日程】2026年5月5日(火) \n【会場】青山月見ル君想フ \n【出演】pinfu \, the dadadadys \n【開場 / 開演】18:30 / 19:00 \n【チケット】前売￥4\,000- / 学割￥2\,500- (D代別) \n【一般発売(先着)】 ※livepockethttps://livepocket.jp/e/260505n \n【問い合わせ】青山月見ル君想フ  03-5474-8115
URL:https://dadadadys.com/live/%e6%9c%88%e8%a6%8b%e3%83%ab%e5%90%9b%e6%83%b3%e3%83%95pre-%e3%81%8a%e3%81%a8%e3%81%aa%e3%81%93%e3%81%a9%e3%82%82%e3%81%ae%e6%97%a5/
LOCATION:青山月見ル君想フ\, 4-9-1 B1F\, 港区南青山\, 東京都\, 107-0062\, Japan
CATEGORIES:event
ATTACH;FMTTYPE=image/png:https://dadadadys.com/wp-content/uploads/98b502b965c396f884dea4231bf72202.png
END:VEVENT
BEGIN:VEVENT
DTSTART;VALUE=DATE:20260506
DTEND;VALUE=DATE:20260507
DTSTAMP:20260423T213340
CREATED:20260319T100004Z
LAST-MODIFIED:20260318T093519Z
UID:6233-1778025600-1778111999@dadadadys.com
SUMMARY:独創と空間
DESCRIPTION:【日程】2026年5月6日(水) \n【会場】松本ALECX \n【出演】the奥歯’s \, ポンツクピーヤ \, the dadadadys \n【開場 / 開演】17:00 / 17:30 \n【チケット】前売￥3\,000-  (D代別) \n【一般発売(先着)】 ※e+3/24 10:00～ 発売開始https://eplus.jp/sf/detail/4503070001-P0030001 \n【問い合わせ】松本ALECX  0263-38-0050
URL:https://dadadadys.com/live/%e7%8b%ac%e5%89%b5%e3%81%a8%e7%a9%ba%e9%96%93/
LOCATION:松本ALECX\, 深志1-2-8\, 松本市\, 長野県\, 390-0815\, Japan
CATEGORIES:event
ATTACH;FMTTYPE=image/jpeg:https://dadadadys.com/wp-content/uploads/0506.jpg
END:VEVENT
BEGIN:VEVENT
DTSTART;VALUE=DATE:20260510
DTEND;VALUE=DATE:20260511
DTSTAMP:20260423T213340
CREATED:20260326T080001Z
LAST-MODIFIED:20260402T031450Z
UID:6247-1778371200-1778457599@dadadadys.com
SUMMARY:BASEMENTBAR 31th Anniversary"Born To Rust"
DESCRIPTION:【日程】2026年5月10日(日) \n【会場】下北沢BASEMENTBAR \n【出演】モーモールルギャバンthe dadadadys \n【開場 / 開演】17:45 / 18:30 \n【チケット】前売￥4\,000- (D代別)TEEN ¥2\,000- (D代別) \n【一般発売】 ※livepocket3月28日(土) 12:00 ～ 販売開始https://livepocket.jp/e/i84fj
URL:https://dadadadys.com/live/basementbar-31th-anniversaryborn-to-rust/
LOCATION:下北沢 BASEMENTBAR\, 東京都世田谷区代沢５丁目１８−１
CATEGORIES:event
ATTACH;FMTTYPE=image/png:https://dadadadys.com/wp-content/uploads/born_to_rust_0309_01.png
END:VEVENT
BEGIN:VEVENT
DTSTART;VALUE=DATE:20260517
DTEND;VALUE=DATE:20260518
DTSTAMP:20260423T213340
CREATED:20260420T090006Z
LAST-MODIFIED:20260420T042323Z
UID:6333-1778976000-1779062399@dadadadys.com
SUMMARY:TENDOUJI LIVEHOUSE TOUR 2026EASY PUNK PARK
DESCRIPTION:【日程】2026年5月17日(日) \n【会場】名古屋TOKUZO \n【出演】TENDOUJI \, the dadadadys \n【開場 / 開演】17:00 / 18:00 \n【チケット】前売￥4\,200-  / 学割￥3\,000- (D代別) \n【一般発売】 ※e+https://eplus.jp/tendouji/
URL:https://dadadadys.com/live/tendouji-livehouse-tour-2026easy-punk-park/
LOCATION:名古屋TOKUZO\, 今池1-6-8 ブルースタービル2F\, 名古屋市千種区\, 愛知県\, 464-0850\, Japan
CATEGORIES:event
ATTACH;FMTTYPE=image/png:https://dadadadys.com/wp-content/uploads/55989919f908bb0aa209eaabb74ae6bb.png
END:VEVENT
BEGIN:VEVENT
DTSTART;VALUE=DATE:20260609
DTEND;VALUE=DATE:20260610
DTSTAMP:20260423T213340
CREATED:20260309T110006Z
LAST-MODIFIED:20260306T071640Z
UID:6200-1780963200-1781049599@dadadadys.com
SUMMARY:Flowers LOFT 6th Anniversary『ENDSCAPE vol.60』
DESCRIPTION:【日程】2026年6月9日(火) \n【会場】Flowers Loft \n【出演】つきみ \, the dadadadysバチカン市国に愛されたい(O.A) \n【開場 / 開演】18:30 / 19:00 \n【チケット】前売￥3\,400- / 当日¥3\,900- (D代別)学割￥2\,900- \n【一般発売(先着)】 ※livepockethttps://livepocket.jp/e/endscape60 \n【問い合わせ】Flowers LOFT 03-6407-9520
URL:https://dadadadys.com/live/flowers-loft-6th-anniversary%e3%80%8eendscape-vol-60%e3%80%8f/
LOCATION:下北沢Flowers LOFT\, 東京都世田谷区北沢２丁目２４−５
CATEGORIES:event
ATTACH;FMTTYPE=image/png:https://dadadadys.com/wp-content/uploads/6df91e92fc84b7431c29635397445a08-scaled.png
END:VEVENT
BEGIN:VEVENT
DTSTART;VALUE=DATE:20260620
DTEND;VALUE=DATE:20260622
DTSTAMP:20260423T213340
CREATED:20260115T030028Z
LAST-MODIFIED:20260115T041306Z
UID:6014-1781913600-1782086399@dadadadys.com
SUMMARY:YATSUI FESTIVAL! 2026
DESCRIPTION:【日程】2026年6月20日(土) \, 21日(日) \n【会場】渋谷ライブハウス10会場 \n【出演】出演者多数のため画像をご覧ください。 \n【開場 / 開演】11:30 \n【チケット】早割 2daysチケット(6/20\,21) ¥15\,500早割 DAY1チケット(6/20.21) 各日¥8\,500U-20 DAY1チケット(6/20\,21) 各日¥5\,500VIP DAY1チケット(6/20\,21) 各日¥35\,000 \n【早割先着先行チケット 】 ※e+1月15日(木)12:00～2月4日(水)23:59https://eplus.jp/yatsuifes/ \n【詳細】オフィシャルサイト http://www.yatsui-fes.com/ \n【問い合わせ】Spotify O-EAST 03-5458-4681(11:00～20:00)
URL:https://dadadadys.com/live/yatsui-festival/
LOCATION:愛知県
CATEGORIES:event
ATTACH;FMTTYPE=image/jpeg:https://dadadadys.com/wp-content/uploads/26062021.jpg
END:VEVENT
BEGIN:VEVENT
DTSTART;VALUE=DATE:20260725
DTEND;VALUE=DATE:20260727
DTSTAMP:20260423T213340
CREATED:20260331T110031Z
LAST-MODIFIED:20260331T075003Z
UID:6279-1784937600-1785110399@dadadadys.com
SUMMARY:MURO FESTIVAL 2026
DESCRIPTION:【日程】2025年07月25日(土)、26日(日) \n【会場】横浜赤レンガ倉庫 野外特設会場 \n【開場 / 開演】9:00 / 10:00 \n出演者多数 \n【前売りチケット】1日券：一般￥9\,800- / 学割 ￥6\,800-通し券：一般￥17\,000- / 学割 ￥12\,000- (D代別) \n【三次オフィシャル先行(先着)】 ※e+受付期間：3/31(火)21:00 ～ 4/23(木)23:59https://eplus.jp/murofes26/ \n【問い合わせ】オフィシャルサイト https://murofes.com/
URL:https://dadadadys.com/live/muro-festival-2026/
LOCATION:横浜赤レンガ倉庫\, 新港1-1\, 神奈川県横浜市中区\, 神奈川県\, 231-0001\, Japan
CATEGORIES:event
ATTACH;FMTTYPE=image/jpeg:https://dadadadys.com/wp-content/uploads/murofes2026_logo.jpg
END:VEVENT
BEGIN:VEVENT
DTSTART;VALUE=DATE:20260821
DTEND;VALUE=DATE:20260822
DTSTAMP:20260423T213340
CREATED:20260327T110025Z
LAST-MODIFIED:20260327T070850Z
UID:6258-1787270400-1787356799@dadadadys.com
SUMMARY:あすなろ白昼夢【はじめのはじめのだいいっぽII】 1st Full Album「魔法少女図鑑」リリース記念 全国ツアー
DESCRIPTION:【日程】2026年8月21日(金) \n【会場】心斎橋Pangea \n【出演】あすなろ白昼夢 \, the dadadadys \n【開場 / 開演】19:00 / 19:30 \n【チケット】前売￥3\,000- / 当日￥3\,500- (D代別) \n【一般発売】 ※e+、ぴあ3月28日(土) 12:00～ 発売開始e+ https://eplus.jp/asunarohakutyumu-tour26/ぴあ https://w.pia.jp/t/asunarohakutyumu-tour26/ \n【問い合わせ】心斎橋Pangea　06-4708-0061
URL:https://dadadadys.com/live/%e3%81%82%e3%81%99%e3%81%aa%e3%82%8d%e7%99%bd%e6%98%bc%e5%a4%a2%e3%80%90%e3%81%af%e3%81%98%e3%82%81%e3%81%ae%e3%81%af%e3%81%98%e3%82%81%e3%81%ae%e3%81%a0%e3%81%84%e3%81%84%e3%81%a3%e3%81%bdii%e3%80%91/
LOCATION:Live House Pangea\, 阪府大阪市中央区西心斎橋２丁目１０−３４ 心斎橋ウエスト363ビル
CATEGORIES:event
ATTACH;FMTTYPE=image/jpeg:https://dadadadys.com/wp-content/uploads/0821-scaled.jpg
END:VEVENT
END:VCALENDAR